BEGIN:VCALENDAR
PRODID:-//ICTPDiploma//ATRoom//EN
VERSION:2.0
METHOD:PUBLISH
BEGIN:VEVENT
DTSTAMP:20260423T184301Z
CREATED:20220222T145751Z
UID:ATEvent-9a162eadc3d94869979c2689e2650b2d
LAST-MODIFIED:20220222T145752Z
SUMMARY:ESP-NUM II
DTSTART:20220329T070000Z
DTEND:20220329T083000Z
LOCATION:LB Lab
CONTACT:G. Giuliani
URL:https://diploma-clear.ictp.it/courses/weekly-schedule/lb-lab/lecture.2022-02-22.8719058075
CLASS:PUBLIC
END:VEVENT
BEGIN:VEVENT
DTSTAMP:20260423T184301Z
CREATED:20220222T145752Z
UID:ATEvent-b8a3fab019c2438294b589d95ba3472c
LAST-MODIFIED:20220222T145752Z
SUMMARY:ESP-NUM II
DTSTART:20220331T070000Z
DTEND:20220331T083000Z
LOCATION:LB Lab
CONTACT:G. Giuliani
URL:https://diploma-clear.ictp.it/courses/weekly-schedule/lb-lab/lecture.2022-02-22.8720795347
CLASS:PUBLIC
END:VEVENT
END:VCALENDAR
