BEGIN:VCALENDAR
PRODID:-//ICTPDiploma//ATRoom//EN
VERSION:2.0
METHOD:PUBLISH
BEGIN:VEVENT
DTSTAMP:20260423T225439Z
CREATED:20220114T143342Z
UID:ATEvent-258752dc97b24effa6ace5f5edc71d93
LAST-MODIFIED:20220114T143342Z
SUMMARY:ESP-ESM
DTSTART:20220222T130000Z
DTEND:20220222T143000Z
LOCATION:LB Lab
CONTACT:A. Tompkins
URL:https://diploma-clear.ictp.it/courses/weekly-schedule/lb-lab/lecture.2022-01-14.8223409212
CLASS:PUBLIC
END:VEVENT
BEGIN:VEVENT
DTSTAMP:20260423T225439Z
CREATED:20220114T143342Z
UID:ATEvent-768168f729654de09ac5d023c05f337e
LAST-MODIFIED:20220114T143342Z
SUMMARY:ESP-ESM
DTSTART:20220224T130000Z
DTEND:20220224T143000Z
LOCATION:LB Lab
CONTACT:A. Tompkins
URL:https://diploma-clear.ictp.it/courses/weekly-schedule/lb-lab/lecture.2022-01-14.8224877073
CLASS:PUBLIC
END:VEVENT
END:VCALENDAR
