BEGIN:VCALENDAR
PRODID:-//AT Content Types//AT Event//EN
VERSION:2.0
METHOD:PUBLISH
BEGIN:VEVENT
DTSTAMP:20260422T165520Z
CREATED:20220725T093607Z
UID:ATEvent-d6ae5108c8674a4093bf46e1d551136c
LAST-MODIFIED:20220725T093628Z
SUMMARY:ESP-LB
DTSTART:20220913T140000Z
DTEND:20220913T153000Z
LOCATION:LB Lab
CONTACT:G.  Giuliani
URL:https://diploma-clear.ictp.it/courses/weekly-schedule/lb-lab/esp-lb
CLASS:PUBLIC
END:VEVENT
END:VCALENDAR
