BEGIN:VCALENDAR
PRODID:-//AT Content Types//AT Event//EN
VERSION:1.0
BEGIN:VEVENT
DTSTART:20220916T120000Z
DTEND:20220916T133000Z
DCREATED:20220725T093807Z
UID:ATEvent-026734c965c645b09b30244c9b656664
SEQUENCE:0
LAST-MODIFIED:20220725T094003Z
SUMMARY:ESP-LB
LOCATION:LB Lab
PRIORITY:3
TRANSP:0
END:VEVENT
END:VCALENDAR
