BEGIN:VCALENDAR
PRODID:-//AT Content Types//AT Event//EN
VERSION:1.0
BEGIN:VEVENT
DTSTART:20220915T140000Z
DTEND:20220915T153000Z
DCREATED:20220725T093705Z
UID:ATEvent-b4ffb3b2e6264905aab0f682eacf8b29
SEQUENCE:0
LAST-MODIFIED:20220725T093802Z
SUMMARY:ESP-LB
LOCATION:LB Lab
PRIORITY:3
TRANSP:0
END:VEVENT
END:VCALENDAR
