BEGIN:VCALENDAR
PRODID:-//AT Content Types//AT Event//EN
VERSION:1.0
BEGIN:VEVENT
DTSTART:20220317T130000Z
DTEND:20220317T143000Z
DCREATED:20220114T143342Z
UID:ATEvent-de7ef893135b4f20bb421401c1067866
SEQUENCE:0
LAST-MODIFIED:20220202T151413Z
SUMMARY:ESP-ESM
LOCATION:LB Lab
PRIORITY:3
TRANSP:0
END:VEVENT
END:VCALENDAR
