BEGIN:VCALENDAR
PRODID:-//AT Content Types//AT Event//EN
VERSION:1.0
BEGIN:VEVENT
DTSTART:20211006T070000Z
DTEND:20211006T083000Z
DCREATED:20211005T133202Z
UID:ATEvent-9fb2847d39fe48069a4c57c74f7128ca
SEQUENCE:0
LAST-MODIFIED:20211005T133235Z
SUMMARY:ESP/CMP-NUM I
LOCATION:LB Lab
PRIORITY:3
TRANSP:0
END:VEVENT
END:VCALENDAR
